BEGIN:VCALENDAR
VERSION:2.0
PRODID:-//Milwaukee Comedy Festival - ECPv6.15.15//NONSGML v1.0//EN
CALSCALE:GREGORIAN
METHOD:PUBLISH
X-WR-CALNAME:Milwaukee Comedy Festival
X-ORIGINAL-URL:https://mkecomedyfest.com
X-WR-CALDESC:Events for Milwaukee Comedy Festival
REFRESH-INTERVAL;VALUE=DURATION:PT1H
X-Robots-Tag:noindex
X-PUBLISHED-TTL:PT1H
BEGIN:VTIMEZONE
TZID:America/Chicago
BEGIN:DAYLIGHT
TZOFFSETFROM:-0600
TZOFFSETTO:-0500
TZNAME:CDT
DTSTART:20170312T080000
END:DAYLIGHT
BEGIN:STANDARD
TZOFFSETFROM:-0500
TZOFFSETTO:-0600
TZNAME:CST
DTSTART:20171105T070000
END:STANDARD
BEGIN:DAYLIGHT
TZOFFSETFROM:-0600
TZOFFSETTO:-0500
TZNAME:CDT
DTSTART:20180311T080000
END:DAYLIGHT
BEGIN:STANDARD
TZOFFSETFROM:-0500
TZOFFSETTO:-0600
TZNAME:CST
DTSTART:20181104T070000
END:STANDARD
BEGIN:DAYLIGHT
TZOFFSETFROM:-0600
TZOFFSETTO:-0500
TZNAME:CDT
DTSTART:20190310T080000
END:DAYLIGHT
BEGIN:STANDARD
TZOFFSETFROM:-0500
TZOFFSETTO:-0600
TZNAME:CST
DTSTART:20191103T070000
END:STANDARD
BEGIN:DAYLIGHT
TZOFFSETFROM:-0600
TZOFFSETTO:-0500
TZNAME:CDT
DTSTART:20200308T080000
END:DAYLIGHT
BEGIN:STANDARD
TZOFFSETFROM:-0500
TZOFFSETTO:-0600
TZNAME:CST
DTSTART:20201101T070000
END:STANDARD
BEGIN:DAYLIGHT
TZOFFSETFROM:-0600
TZOFFSETTO:-0500
TZNAME:CDT
DTSTART:20210314T080000
END:DAYLIGHT
BEGIN:STANDARD
TZOFFSETFROM:-0500
TZOFFSETTO:-0600
TZNAME:CST
DTSTART:20211107T070000
END:STANDARD
END:VTIMEZONE
BEGIN:VEVENT
DTSTART;TZID=America/Chicago:20201007T193000
DTEND;TZID=America/Chicago:20201007T210000
DTSTAMP:20260424T063825
CREATED:20200909T154640Z
LAST-MODIFIED:20201005T195943Z
UID:2847-1602099000-1602104400@mkecomedyfest.com
SUMMARY:Fest Kickoff at Dandy!
DESCRIPTION:Don’t miss the kick off to the 2020 Milwaukee Comedy Festival! It’s sure to be a hilarious night of laughs at one of the most unique venues in town -Dandy! This show perfectly blends vintage lamps and decor with top notch comedy. Host Jeff Spankowski (Milwaukee)\, with Tony Foxworthy (Indianapolis)\, Ross Childs (Chicago) and Headliner Dana Ehrmann (Milwaukee). \n\n\n\nStart off the 2020 Comedy Fest with us on Wednesday\, October 7th at Dandy\, 5020 West Vliet Street\, Milwaukee\, WI 53208. Doors open at 7\, show start at 7:30pm. Show Tickets are available for $15. Due to COVID-19 and social distance guidelines seating is limited for all shows in the 2020 festival. Doors open 30 minutes prior to show time. This show is 18+. \n\n\n\n\n\n\n\n\n\n\n\nCOVID-19 Guidelines & Precautions: \n\n\n\nFace masks must be worn at all times while at The Laughing Tap.All guests must maintain a distance of 6 feet from individuals not in your party.Soap & hot water are available in the restrooms for thorough hand-washing. Hand sanitizer is also available at the box office\, bar & by request.Credit & debit cards encouraged.If tickets are available at the door\, only credit or debit cards will be accepted at the box office.If you are feeling sick or are awaiting the results of a COVID screening\, please stay home.Failure to comply with these policies will result in denied entrance and/or being asked to leave the club. No refund will be given if tickets have been purchased.\n\n\n\nAbout the Milwaukee Comedy Festival \n\n\n\nThe 2020 Milwaukee Comedy Festival\, celebrating 14 and a Half (thanks COVID!) years of laughs! Featuring performers from across the country in 9 different live shows and Special Events at multiple venues including The Laughing Tap\, Lakefront Brewery\, Dandy\, and Captain Pabst Pilot House. Join us for the best laughs you can find October 7-11\, 2020. \n\n\n\nOver the years more than 20\,000 people have laughed with the Milwaukee Comedy Festival! Audiences have traveled from all parts of Wisconsin to attend the fest\, and as far away as Los Angeles to Boston for the city’s biggest comedy event of the year. Since 2006\, the festival has featured thousands of performers from across the country including New York\, Chicago\, Los Angeles\, Seattle\, Philadelphia\, Denver and Austin as well as Canada including Toronto\, Alberta and Vancouver. Our alumni have appeared in movies and television including Comedy Central\, Netflix\, HBO\, Saturday Night Live\, MAD TV\, BET\, Conan\, Late Nite and many more. \n\n\n\nQuestions? info@mkecomedyfest.com
URL:https://mkecomedyfest.com/event/fest-kickoff-at-dandy/
LOCATION:Dandy\, 5020 West Vliet Street\, Milwaukee\, WI\, 53208\, United States
CATEGORIES:Kick Off Event,Special Event
ATTACH;FMTTYPE=image/png:https://mkecomedyfest.com/wp-content/uploads/Kickoff-@-Dandy-10.7.png
END:VEVENT
BEGIN:VEVENT
DTSTART;TZID=America/Chicago:20190804T110000
DTEND;TZID=America/Chicago:20190804T130000
DTSTAMP:20260424T063825
CREATED:20190724T034928Z
LAST-MODIFIED:20190724T034933Z
UID:2722-1564916400-1564923600@mkecomedyfest.com
SUMMARY:MCF presents Laughing Lunch at Pabst Taproom!
DESCRIPTION:Laugh it up while enjoying some delicious lunch and craft beer! Laughing Lunch at Pabst Brewery and Taproom will feature hilarious comedians from the 14th Annual Milwaukee Comedy Festival and food from Great Lakes Galley at Pabst Brewery! \n\n\n\nFREE Admission! 18+ Event
URL:https://mkecomedyfest.com/event/mcf-presents-laughing-lunch-at-pabst-taproom/
LOCATION:Pabst Brewery & Taproom\, 1037 W Juneau Ave\, Milwaukee\, WI\, 53233\, United States
CATEGORIES:Special Event
ATTACH;FMTTYPE=image/jpeg:https://mkecomedyfest.com/wp-content/uploads/laughing-lunch.jpg
ORGANIZER;CN="MKE Comedy Fest":MAILTO:info@mkecomedyfest.com
END:VEVENT
BEGIN:VEVENT
DTSTART;TZID=America/Chicago:20190803T110000
DTEND;TZID=America/Chicago:20190803T130000
DTSTAMP:20260424T063825
CREATED:20190730T234007Z
LAST-MODIFIED:20190730T234046Z
UID:2741-1564830000-1564837200@mkecomedyfest.com
SUMMARY:Bloody (Mary) Comedy
DESCRIPTION:Have a Bloody good laugh at the Milwaukee Comedy Festival!! \n\n\n\nGet your brunch-time laughs with Bloody (Mary) Comedy at Var Gallery. The Var bar will be crafting delicious Bloody Marys while the comedians of the 14th Annual Milwaukee Comedy Festival craft the jokes! \n\n\n\nFREE Admission! (Please register here)11am – 1pm
URL:https://mkecomedyfest.com/event/bloody-mary-comedy/
LOCATION:Var Gallery\, 643 South 2nd Street\, Milwaukee\, WI\, 53204\, United States
CATEGORIES:Special Event
ATTACH;FMTTYPE=image/jpeg:https://mkecomedyfest.com/wp-content/uploads/67246064_2572597469418449_1049382075167145984_n.jpg
ORGANIZER;CN="MKE Comedy Fest":MAILTO:info@mkecomedyfest.com
END:VEVENT
BEGIN:VEVENT
DTSTART;TZID=America/Chicago:20190731T190000
DTEND;TZID=America/Chicago:20190731T210000
DTSTAMP:20260424T063825
CREATED:20190312T192708Z
LAST-MODIFIED:20190712T161920Z
UID:2300-1564599600-1564606800@mkecomedyfest.com
SUMMARY:Official Kick Off: Keg Stand Up
DESCRIPTION:Kick off the 2019 Milwaukee Comedy Festival with the cities #1 comedy show – Keg Stand Up at Lakefront Brewery! \n\n\n\nMilwaukee Comedy and Lakefront Brewery present fresh laughs and fresh beer\, it’s Keg Stand Up – a hilarious night of comedy at Lakefront Brewery! The show will feature delicious beer\, live stand up comedy and table served food from a special show menu. Yum! \n\n\n\nThis show is a great time with top regional stand up comics. If great comedy wasn’t enough\, Lakefront has put a special menu together for the show including their award-winning cheese curds! This show is hot\, hot\, HOT and WILL SELL OUT so plan ahead and grab your tickets today! \n\n\n\nTickets are only $10 pre-sale or $12 at the door and this show will sell out! Buy in advance to ensure a seat. Doors open at 6:15pm and the show will start at 7pm. A small tasting room will be open until you’re ready to be sat at your table. \n\n\n\n\n\n\n\n\n\n\n\nTicketing Info! Please Read!\n\n\n\nThis show is RESERVED SEATING and has become very popular! Seating is limited and shows do sell out. We reserve the right to give your seats away if you arrive late! \n\n\n\nTo ensure your group can sit together please purchase all tickets in the same transaction. We apologize for the inconvenience. \n\n\n\nAny seats that don’t sell in the pre-sale online will be offered as walk-up tickets prior to the show for $12. Please Note: Standing room as well as seats outside of our table service sections will be available as needed for a discounted price of $7 at the door. \n\n\n\nBring your ID! This show is 21+ unless accompanied by legal guardian. This show has adult themes. Ticket buyer must be over 21 and have a valid ID. All attendees must be present to receive a ticket. \n\n\n\nKeg Stand Up at Lakefront Brewery1872 N Commerce St\, Milwaukee\, WIWednesday\, July 31st\, 2019Doors open at 6:15pm\, show at 7pm \n\n\n\nComplete schedule of events including info and tickets for headliners and full line up at mkecomedyfest.com \n\n\n\nAbout the Milwaukee Comedy Festival\n\n\n\nThe Milwaukee Comedy Festival is Wisconsin’s largest multi-day comedy event\, celebrating 14 years presenting the best local\, regional\, and national comedic talent. The festival has featured top-notch stand-up\, improv\, and sketch comedy from across the country. Founded in 2006 as the Sketch and Improv Comedy Festival to support and grow the comedy scene in the city\, the Milwaukee Comedy Festival quickly grew into Wisconsin’s premier annual comedy event attracting thousands of comedy fans every year. MCF aspires to cultivate an active comedy community where performers can hone their craft\, create new and exciting comedy\, and foster an inviting environment for both audiences and fellow performers. \n\n\n\nOver the years more than 18\,000 people have laughed with the Milwaukee Comedy Festival. Audiences have traveled from all parts of Wisconsin to attend the fest\, and as far away as Los Angeles to Boston for the city’s biggest comedy event of the year. Since 2006\, the festival has featured thousands of performers from across the country including New York\, Chicago\, Los Angeles\, Seattle\, Philadelphia\, Denver and Austin as well as Canada including Toronto\, Alberta and Vancouver. Our alumni have appeared in movies and television including Comedy Central\, Netflix\, HBO\, Saturday Night Live\, MAD TV\, BET\, Conan\, Late Nite and many more.
URL:https://mkecomedyfest.com/event/official-kick-off-at-lakefront-brewery/
LOCATION:Lakefront Brewery\, 1872 N Commerce St\, Milwaukee\, WI\, 53212
CATEGORIES:Kick Off Event,Special Event
ATTACH;FMTTYPE=image/jpeg:https://mkecomedyfest.com/wp-content/uploads/Wed7pm.jpg
ORGANIZER;CN="MKE Comedy Fest":MAILTO:info@mkecomedyfest.com
END:VEVENT
BEGIN:VEVENT
DTSTART;TZID=America/Chicago:20180805T143000
DTEND;TZID=America/Chicago:20180805T163000
DTSTAMP:20260424T063825
CREATED:20180608T234733Z
LAST-MODIFIED:20180608T234821Z
UID:1882-1533479400-1533486600@mkecomedyfest.com
SUMMARY:Best of the Fest!
DESCRIPTION:Join us for the final event in the Milwaukee Comedy Festival – The Best of the Fest!  This show will feature audience favorites from the week of laughs and some very special guests! More details coming soon.
URL:https://mkecomedyfest.com/event/best-of-the-fest/
LOCATION:The Underground Collaborative\, 161 West Wisconsin Avenue\, Milwaukee\, WI\, 53203\, United States
CATEGORIES:Special Event
ORGANIZER;CN="MKE Comedy Fest":MAILTO:info@mkecomedyfest.com
END:VEVENT
BEGIN:VEVENT
DTSTART;TZID=America/Chicago:20180803T150000
DTEND;TZID=America/Chicago:20180803T150000
DTSTAMP:20260424T063825
CREATED:20180713T185917Z
LAST-MODIFIED:20180713T185917Z
UID:2102-1533308400-1533308400@mkecomedyfest.com
SUMMARY:Colin Quinn: One In Every Crowd
DESCRIPTION:Milwaukee Comedy Festival presents:\nColin Quinn “One In Every Crowd”\nFrom the old MTV days to SNL to Comedy Central to Broadway\, CQ is apparently refusing to leave the business. So if you enjoyed his other one man shows\, or you just are at a place in your life where you are lost and you need intelligent laughs\, come see his new show. One In Every Crowd. Milwaukee Comedy Festival presents Colin Quinn\, “One In Every Crowd” on Friday\, August 3\, 8pm at Turner Hall Ballroom. \nTickets are $29.50 and available via the Pabst Theater Box Office\, online or by calling (414) 286-3663. \nColin Quinn is a stand-up comedian\, actor\, and writer. On television\, he is best known for his work on Saturday Night Live\, where he anchored Weekend Update\, on MTV’s 1980s game show Remote Control\, where he served as the announcer/sidekick\, and as host of Comedy Central’s late-night panel show Tough Crowd with Colin Quinn. Notable film work includes his role as Dooey in A Night at the Roxbury\, Dickey Bailey in the Grown Ups films and playing Amy Schumer’s father in the film Trainwreck. Comedians such as Jerry Seinfeld and Dave Attell cite him as the quintessential New York comedian. \nQuinn has also become known for his comedic one-man shows that offer his unique takes on history and growing up in New York City. As of 2015\, he has written and starred in five shows: Irish Wake\, My Two Cents\, Long Story Short\, Unconstitutional\, and The New York Story\, two of which he collaborated on with Seinfeld as director. Long Story Short was filmed as an HBO special that aired on April 9\, 2011 and Unconstitutional and The New York Story were released as Netflix specials. In 2004\, Quinn was named No. 56 on Comedy Central’s list of the 100 greatest stand-up comedians of all-time. \nMilwaukee Comedy Festival presents\nColin Quinn\, “One In Every Crowd”\nFriday\, August 3 at 8pm\nat Turner Hall Ballroom\, 1040 N 4th St\, Milwaukee\, WI 53203
URL:https://mkecomedyfest.com/event/colin-quinn/
LOCATION:Turner Hall Ballroom\, 1040 Vel R. Phillips Ave\, Milwaukee\, WI\, 53203\, United States
CATEGORIES:Special Event
ATTACH;FMTTYPE=image/jpeg:https://mkecomedyfest.com/wp-content/uploads/Colin-Quinn-Headshot.jpg
ORGANIZER;CN="MKE Comedy Fest":MAILTO:info@mkecomedyfest.com
END:VEVENT
BEGIN:VEVENT
DTSTART;TZID=America/Chicago:20180802T143000
DTEND;TZID=America/Chicago:20180802T163000
DTSTAMP:20260424T063825
CREATED:20180608T223422Z
LAST-MODIFIED:20180731T003808Z
UID:1871-1533220200-1533227400@mkecomedyfest.com
SUMMARY:Lady Parts Justice League
DESCRIPTION:Join Lady Parts Justice League for a hilarious night of comedy and activism! Hosted by The Daily Show co-creator Lizz Winstead with special guests Jackie Kashian and Gina Yashere! \nLPJL’s second annual #VagicalMysteryTour will make you laugh\, dance\, and learn how to fight for reproductive rights! This show will not only present some of the most hilarious and sought after comedians in the business\, but will include an informal post-show talkback with abortion providers and activists\, who will break down what’s at stake for abortion rights in your state\, and offer tangible ways for you to roll up your sleeves and fight back. \n*Venue Change!* This show has moved to a bigger venue and is now at The Cooperage\, 822 S Water St.\, Milwaukee\, WI 53204 \nLine up is subject to change. Check out mkecomedyfest.com for updates! \nThursday\, August 2\, 2018 at 7:30pm\nThe Cooperage\, 822 S Water St.\, Milwaukee\, WI 53204 \n***ASL Interpreter available upon request. Contact us at amber@ladypartsjusticeleauge.com*** \nReproductive rights and bodily autonomy are the cornerstones of gender equality. They’re under attack\, and LPJL wants YOU to *PUT* *IT* *ON* *BLAST* \nAbout LPJL: \nLPJL is the reproductive rights organization that uses humor and outrage to fight back online and on the ground against enemies of reproductive freedom (i.e. We’re EVERYWHERE). Part USO\, part Habitat for Humanity\, LPJL is the only nonprofit that travels the country doing comedy and providing aid and comfort to independent clinics in hostile states. Clinics and activists know\, when they ask LPJL for help #WeShowUp. \nLearn more about LPJL’s work at ladypartsjusticeleague.com \nMore tour info at vagicalmysterytour.com
URL:https://mkecomedyfest.com/event/lady-parts-justice-league/
LOCATION:The Cooperage\, 822 S Water St.\, Milwaukee\, WI\, 53204\, United States
CATEGORIES:Special Event
ATTACH;FMTTYPE=image/jpeg:https://mkecomedyfest.com/wp-content/uploads/VMT2018_WI_HeadshotsAddedVenue-Change7DOORS.jpg
ORGANIZER;CN="MKE Comedy Fest":MAILTO:info@mkecomedyfest.com
END:VEVENT
BEGIN:VEVENT
DTSTART;TZID=America/Chicago:20180801T140000
DTEND;TZID=America/Chicago:20180801T153000
DTSTAMP:20260424T063825
CREATED:20180608T221330Z
LAST-MODIFIED:20180608T221330Z
UID:1863-1533132000-1533137400@mkecomedyfest.com
SUMMARY:Keg Stand Up Official Comedy Fest Kick off!
DESCRIPTION:Celebrate 13 Cluckin’ years of laughs with the official Milwaukee Comedy Festival Kick Off Event! \nBrew cities’ favorite comedy show! Milwaukee Comedy and Lakefront Brewery present fresh laughs and fresh beer\, it’s Keg Stand Up – a hilarious night of comedy at Lakefront Brewery! The show will feature delicious beer\, live stand up comedy and table served food from a special show menu. Yum! \nExpect a great time with top regional stand up comics. If great comedy wasn’t enough\, Lakefront has put a special menu together for the show including their award-winning cheese curds! This show is hot\, hot\, HOT and WILL SELL OUT so plan ahead and grab your tickets today! \nTickets are only $10 but grab them while you can\, this show WILL SELL OUT!! \nDoors open at 6:15pm and the show will start at 7pm. A small tasting room will be open until you’re ready to be sat at your table. \nTicketing Info! Please Read!\nThis show is RESERVED SEATING and has become very popular! Seating is limited and shows do sell out. We reserve the right to give your seats away if you arrive late! \nMobile Ticket Buyers: To ensure your group can sit together please purchase all tickets in the same transaction. We apologize for the inconvenience. \nAny seats that don’t sell in the pre-sale online will be offered as walk-up tickets prior to the show. Please Note: Standing room as well as seats outside of our table service sections will be available as needed for a discounted price at the door. \nBring your ID! This show is 21+ unless accompanied by legal guardian. This show has adult themes. Ticket buyer must be over 21 and have a valid ID. All attendees must be present to receive a ticket. \nKeg Stand Up Official Comedy Fest Kick off!\nat Lakefront Brewery\n1872 N Commerce St\, Milwaukee\, WI\nWednesday\, August 1st\, 2018\nDoors open at 6:15pm\, show at 7pm
URL:https://mkecomedyfest.com/event/keg-stand-up-official-comedy-fest-kick-off/
LOCATION:Lakefront Brewery\, 1872 N Commerce St\, Milwaukee\, WI\, 53212
CATEGORIES:Special Event
ATTACH;FMTTYPE=image/jpeg:https://mkecomedyfest.com/wp-content/uploads/fest-kick-off.jpg
ORGANIZER;CN="MKE Comedy Fest":MAILTO:info@mkecomedyfest.com
END:VEVENT
BEGIN:VEVENT
DTSTART;TZID=America/Chicago:20180731T143000
DTEND;TZID=America/Chicago:20180731T160000
DTSTAMP:20260424T063825
CREATED:20180713T001116Z
LAST-MODIFIED:20180730T093005Z
UID:2072-1533047400-1533052800@mkecomedyfest.com
SUMMARY:Pre Kick Off Showcase
DESCRIPTION:Tuesday\, July 31\n7:30pm at Frank’s Powerplant\nPre Kick Off Showcase\n*Special Event!* \nGet warmed up for the marathon of comedy that is the Milwaukee Comedy Festival with the official Pre Kick-Off Stand Up Showcase!  This event will feature some of the best stand up Wisconsin has to offer including host Raegan Niemela and comics Rich D’Amore\, Christopher Schmidt\, Ton Johnson and John Egan. \nAbout the Comics: \nRich D’Amore\nStand Up\,\nMy goal is to save up as many drink tickets as I can. I try to waste everyone’s time with my nonsense and bring as many smiles to as many faces as I can. Getting people to forget their troubles and just laugh. I used to pick my nose and one time almost died a bunch of times. So I’m just loving living. And I’m living my dream. Comedy is The therapy. Amen. \nChristopher Schmidt\nStand Up\, Milwaukee\nChristopher Schmidt is a Milwaukee based comic who writes punchlines to avoid fixating on the inevitable consequences of mortality. A quick-witted misfit with a penchant for misdirection\, the only thing Chris enjoys more than watching an audience try to figure out where his jokes are going is savoring their reaction when he gets there. Mr. Schmidt is the weekly host of Milwaukee’s long running Duck and Cover Comedy Hour and has opened for comics such as Nick Vatterott\, Ben Kronberg\, and Tom Clark. \nTon Johnson\nStand Up\, Milwaukee\nAnton “Ton” Johnson uses his comedy as a platform for the questions people won’t ask and the things they won’t say. Based out of the Milwaukee area\, Ton is quickly making a name for himself throughout the Midwestern and Southern circuits with his versatile material and quick witted delivery\, winning several comedy competitions\, participating in festivals and opening for various headliners. \nJohn Egan (Headliner)\nStand Up\, Green Bay\nJohn Egan is a comedian and a Wisconsin native. He has been doing improv and stand-up since high school. John has been called “one of the most relatable comedians out there today” by his peers\, fellow comedians and club owners /managers. His relatable and tumultuous-yet-lovable style has made him a must-book act in the Midwest \n 
URL:https://mkecomedyfest.com/event/pre-kick-off-showcase/
LOCATION:WI
CATEGORIES:Special Event
ORGANIZER;CN="MKE Comedy Fest":MAILTO:info@mkecomedyfest.com
END:VEVENT
END:VCALENDAR