BEGIN:VCALENDAR
VERSION:2.0
PRODID:-//Milwaukee Comedy Festival - ECPv6.15.15//NONSGML v1.0//EN
CALSCALE:GREGORIAN
METHOD:PUBLISH
X-ORIGINAL-URL:https://mkecomedyfest.com
X-WR-CALDESC:Events for Milwaukee Comedy Festival
REFRESH-INTERVAL;VALUE=DURATION:PT1H
X-Robots-Tag:noindex
X-PUBLISHED-TTL:PT1H
BEGIN:VTIMEZONE
TZID:America/Chicago
BEGIN:DAYLIGHT
TZOFFSETFROM:-0600
TZOFFSETTO:-0500
TZNAME:CDT
DTSTART:20170312T080000
END:DAYLIGHT
BEGIN:STANDARD
TZOFFSETFROM:-0500
TZOFFSETTO:-0600
TZNAME:CST
DTSTART:20171105T070000
END:STANDARD
BEGIN:DAYLIGHT
TZOFFSETFROM:-0600
TZOFFSETTO:-0500
TZNAME:CDT
DTSTART:20180311T080000
END:DAYLIGHT
BEGIN:STANDARD
TZOFFSETFROM:-0500
TZOFFSETTO:-0600
TZNAME:CST
DTSTART:20181104T070000
END:STANDARD
BEGIN:DAYLIGHT
TZOFFSETFROM:-0600
TZOFFSETTO:-0500
TZNAME:CDT
DTSTART:20190310T080000
END:DAYLIGHT
BEGIN:STANDARD
TZOFFSETFROM:-0500
TZOFFSETTO:-0600
TZNAME:CST
DTSTART:20191103T070000
END:STANDARD
BEGIN:DAYLIGHT
TZOFFSETFROM:-0600
TZOFFSETTO:-0500
TZNAME:CDT
DTSTART:20200308T080000
END:DAYLIGHT
BEGIN:STANDARD
TZOFFSETFROM:-0500
TZOFFSETTO:-0600
TZNAME:CST
DTSTART:20201101T070000
END:STANDARD
END:VTIMEZONE
BEGIN:VEVENT
DTSTART;TZID=America/Chicago:20190803T150000
DTEND;TZID=America/Chicago:20190803T163000
DTSTAMP:20260424T080225
CREATED:20190609T011458Z
LAST-MODIFIED:20190723T041222Z
UID:2509-1564844400-1564849800@mkecomedyfest.com
SUMMARY:MCF Sat 3pm Show
DESCRIPTION:You’ve had your laughs and your brunch\, so now join for the first of four shows at The UC with some of the best stand ups around featuring Daryll Schmitz (Chicago)\, Sharup Karim (Chicago)\, MK Paulsen (Los Angeles) and headliner Mike Hover (Chicago)!! \n\n\n\n\n\n\n\n\n\n\n\nDaryll Schmitz is originally from Wisconsin\, but quickly acclimated himself to the quiet life of Chicago. Daryll is a graduate of The World Famous Second City Training Center’s Writing and Stand-Up Programs. He is a Producer for a weekly show at the Laugh Factory called Verified Laughs\, a Producer of Stray Bits\, and has written a monthly sketch comedy show for Second City. Sharup Karim is a South Asian American standup comedian who was born in a village in Bangladesh\, but somehow raised in Oklahoma City\, OK. He’s now an established fixture in the Chicago comedy scene and is the co-creator of the ongoing comedy tour “Outcasted”. He will also be featured this year at Kenan Thompson’s Road to NYC showcase at the Laugh Factory in Chicago.M.K. Paulsen is originally from a small town in Texas\, M.K. is a Los Angeles-based comedian who misses Austin all the time. Recently\, M.K. attained Internet fame with his viral blog “BurritoMakesThree.com” that features newborn baby pictures of him with a Chipotle burrito. He has appeared on numerous comedy festivals across the country. In lieu of flowers\, please consider making a financial contribution directly to him.Mike Hover sometimes goes outside to perform comedy. When he does\, it’s a fun roller coaster of randomness; poking fun at everything from relationships to time travel. He’s spontaneous\, clean\, and adorable. His mom didn’t write this. Mike has been seen at Zanies Comedy Clubs\, being eaten by a dinosaur on the SyFy Channel\, and is a recent graduate of the Second City Conservatory Program.
URL:https://mkecomedyfest.com/event/mcf-sat-3pm/
LOCATION:The Underground Collaborative\, 161 West Wisconsin Avenue\, Milwaukee\, WI\, 53203\, United States
CATEGORIES:Featured Show
ATTACH;FMTTYPE=image/jpeg:https://mkecomedyfest.com/wp-content/uploads/Sat3.jpg
ORGANIZER;CN="MKE Comedy Fest":MAILTO:info@mkecomedyfest.com
END:VEVENT
BEGIN:VEVENT
DTSTART;TZID=America/Chicago:20190802T220000
DTEND;TZID=America/Chicago:20190802T233000
DTSTAMP:20260424T080225
CREATED:20190707T213000Z
LAST-MODIFIED:20190723T040420Z
UID:2583-1564783200-1564788600@mkecomedyfest.com
SUMMARY:MCF Fri 10pm Show
DESCRIPTION:The first of three late night shows over the course of the MCF at The UC with some of the best comedic talent from the Midwest featuring Host Samantha Berkman (Chicago)\, Drew Flagge (Milwaukee)\, Mike Jonjak (Madison) and headliner AJ Grill (Milwaukee). \n\n\n\n\n\n\n\n\n\n\n\nSamantha Berkman is a Chicago-based stand up comedian and writer for The A.V. Club TV Show on Fusion. Her weekly stand-up showcase\, CAMP: A Comedy Show\, was recently featured in Chicago Magazine\, Time Out Chicago\, and Vulture.Drew Flagge is just a simple Milwaukee boy humbly and dutifully hosting 2 open mics and easily the best comedy show in the city called Insult & Battery (Cited source: Andrew J Flagge) I only work a blue collar job for the sake of the bit and so I can use my experiences in my skits\, I’m somewhere in between Tupac and Daniel Day Lewis.. Louis? I don’t have time to fact check the spelling too busy living!Mike Jonjak is scary funny. Always unique\, unpredictable and above all hilarious. Mike’s miserable attempts to better understand this thing we call life are filtered through a lens of sour cynicism but with a vulnerability and sweetness that is just a cover for the crippling depression. He produces/hosts a monthly showcase at Octopi Brewing and the stand up/panel hybrid extravaganja show High Concept.AJ Grill is a standup comedian currently residing in Milwaukee\, Wisconsin. An Iowa native\, AJ started his comedy journey at the age of 21 while attending college in Iowa City\, Iowa. After moving to central Wisconsin to finish a meaningless bachelor’s degree\, AJ continued to develop his craft working clubs\, colleges\, and bars all before graduating from college in 2015. AJ Returned to Iowa and won the 2016 Penguins Comedy Club ‘Funniest Person in Iowa Contest.’ His comedy is a mix of humorous personal tragedy\, silly wordplay\, sprinkled with the occasional rant about respecting large bodies of freshwater.
URL:https://mkecomedyfest.com/event/mcf-fri-10pm-show/
LOCATION:The Underground Collaborative\, 161 West Wisconsin Avenue\, Milwaukee\, WI\, 53203\, United States
CATEGORIES:Featured Show
ATTACH;FMTTYPE=image/jpeg:https://mkecomedyfest.com/wp-content/uploads/2019-Sat10.jpg
ORGANIZER;CN="MKE Comedy Fest":MAILTO:info@mkecomedyfest.com
END:VEVENT
BEGIN:VEVENT
DTSTART;TZID=America/Chicago:20180805T120000
DTEND;TZID=America/Chicago:20180805T133000
DTSTAMP:20260424T080225
CREATED:20180610T044249Z
LAST-MODIFIED:20190724T043138Z
UID:1919-1533470400-1533475800@mkecomedyfest.com
SUMMARY:MCF Sun 5pm Show
DESCRIPTION:5pm at The Underground Collaborative \nAn exciting line-up of talent hits the stage with Kristin Lytie hosting\, Green Bay and Chicago comedy from Mary Zee\, Vik Pandya\, and headliner Marz Timms. \nAbout the Comics: \nKristin Lytie (Host)\nStand Up\, Green Bay\nKristin Lytie has performed stand up comedy in basements\, laundromats\, and dive bars all across the country. Kristin lives in Northeastern Wisconsin and her comedy is fueled by a love of all things Midwestern. An eternal optimist\, she has worked in progressive politics for the past ten years as a community and union organizer. She is about working class populist politics and has a strong DIY punk ethic\, but is also passionate about classic rock and cheap beer.Kristin has performed in the Altercation Comedy Festival (Austin\, TX)\, Beast Village Comedy Festival (Des Moines\, IA)\, Bird City Comedy Festival (Phoenix\, AZ)\, Whiskey Bear Comedy Festival (Columbus\, OH)\, Cream City Comedy Festival (Milwaukee\, WI)\, Floodwater Comedy Festival (Iowa City\, IA) and more. She has also funneled her love of horror movies into a podcast called Bloody Mary which discusses horror movies through a lens of sexuality and feminism. Guests have included professors\, comedians\, and even a dominatrix! \nMary Zee\nOne Woman Show\, Chicago\nMary Zee is a goodie-two-shoes who never met a rule she couldn’t follow. In her solo show\, this stand-up comic uses stories\, jokes\, and burlesque (oh my!) to explore a life full of good grades\, bible camp\, and firmly defined sexual labels. Join Mary and learn all about her rules. \nVik Pandya\nStand Up\, Chicago\nVik Pandya is a nationally touring stand-up comic based in Chicago.  Known for his sharp self-deprecation\, observational humor on dating\, & hilarious crowd work\, he’s opened for both Roy Wood Jr. & Michelle Wolf of The Daily Show and performs regularly at Zanies Comedy Club & The Laugh Factory. He was a 2017 StandUp NBC Quarterfinalist\, & has done a number of festivals all over the country. He was featured in NBC’s Breakout Comedy Festival in 2018. \nMarz Timms (Headliner)\nStand Up\, ChicagoActor\, comedian\, Model\, former Chicago Bulls Entertainment Host. You can see Marz in Seasons 1 & 2 of the Netflix original series EASY. Marz created the hit comedy show Pimprov and tours all over the world performing stand up. He also performs with Pimprov under the alias Grand Finale. He is also the voice of Jax from Mortal Kombat. Marz has worked with Eddie Griffin\, Tracy Morgan\, Loni Love\, Lynne Koplitz\, Hannibal Burress and others. \n 
URL:https://mkecomedyfest.com/event/mcf-sun-5pm-show/
LOCATION:The Underground Collaborative\, 161 West Wisconsin Avenue\, Milwaukee\, WI\, 53203\, United States
CATEGORIES:Featured Show
ORGANIZER;CN="MKE Comedy Fest":MAILTO:info@mkecomedyfest.com
END:VEVENT
BEGIN:VEVENT
DTSTART;TZID=America/Chicago:20180805T100000
DTEND;TZID=America/Chicago:20180805T113000
DTSTAMP:20260424T080225
CREATED:20180610T044202Z
LAST-MODIFIED:20190724T043145Z
UID:1917-1533463200-1533468600@mkecomedyfest.com
SUMMARY:MCF Sun 3pm Show
DESCRIPTION:3pm at The Underground Collaborative \nDon’t let the time-slot fool you\, this show features some great laughs from Illinois and Wisconsin with host Jared Wing\, Milwaukee\, improv from Chicago’s Commitment Issues\, and stand up from Adam McShane\, Madison and Audrey Jonas\, Chicago. \nAbout the Comics: \n \nJared Wing (Host)\nStand Up\, Milwaukee\nMy comedy is everything that I find odd condensed into 5 minute bits while trying to avoid talking about my dick. \nCommitment Issues\nImprov\, Chicago\nCommitment Issues first began performing together in a dingy\, not-at-all-sound-proof\,brick classroom at iO Chicago in 2017. \nSix strangers met while taking a level 2 improv class together and by the end of it realized it might be cool to continue making stuff up together on a regular basis. Before long they were performing all over Chicago and even putting on their own shows. They love to have fun on stage and push each other to unexpected new places. Their format\, The Mixtape\, and their high-energy\, character-driven has audiences raving throughout the Midwest. \nAdam McShane\nStand up\, Madison\nContrary to popular belief\, Adam McShane began doing stand up in 2014. He quickly became recognized around Madison for his sharp observational comedy on subjects that “aren’t really a thing.” Onstage\, Adam delivers a structured version of his odd daily musings that others consider unfit for a response. He took 2nd place in Madison’s Funniest Comic 2018\, and has performed all over the midwest for acts such as Gary Gulman\, Brian Posehn\, and Michael Che \nAudrey Jonas (Headliner)\nStand up\, Chicago\nStand up comedian Audrey uses her experiences as a Mexican-American woman and lifelong Chicagoan to craft comedy with a bite. Her unique brand of realness creates a magnetism that has been drawing audiences all over the Midwest since 2014. Audrey was a finalist in the 2016 Stand-Up Siam international comedy competition in Bangkok\, Thailand\, serves as a producer of Chicago institution Hoo Ha Comedy\, and is a faculty instructor at the Second City Training Center.
URL:https://mkecomedyfest.com/event/mcf-sun-3pm-show/
LOCATION:The Underground Collaborative\, 161 West Wisconsin Avenue\, Milwaukee\, WI\, 53203\, United States
CATEGORIES:Featured Show
ORGANIZER;CN="MKE Comedy Fest":MAILTO:info@mkecomedyfest.com
END:VEVENT
END:VCALENDAR